BEGIN:VCALENDAR
VERSION:2.0
PRODID:spatie/icalendar-generator
DESCRIPTION:Veranstaltungen von ASKÖ Treffling
X-WR-CALDESC:Veranstaltungen von ASKÖ Treffling
REFRESH-INTERVAL;VALUE=DURATION:PT1440M
X-PUBLISHED-TTL:PT1440M
BEGIN:VTIMEZONE
TZID:Europe/Vienna
BEGIN:STANDARD
DTSTART:20171029T030000Z
TZOFFSETFROM:+0200
TZOFFSETTO:+0100
END:STANDARD
BEGIN:DAYLIGHT
DTSTART:20180325T020000Z
TZOFFSETFROM:+0100
TZOFFSETTO:+0200
END:DAYLIGHT
BEGIN:STANDARD
DTSTART:20181028T030000Z
TZOFFSETFROM:+0200
TZOFFSETTO:+0100
END:STANDARD
END:VTIMEZONE
BEGIN:VTIMEZONE
TZID:UTC
BEGIN:STANDARD
DTSTART:20250724T191835Z
TZOFFSETFROM:+0000
TZOFFSETTO:+0000
END:STANDARD
END:VTIMEZONE
BEGIN:VEVENT
UID:16-7
DTSTAMP:20260420T191835Z
SUMMARY:11. Trefflinger Dorflauf
LOCATION:EXIT 19 Stadion Spielfeld 18  Mittertreffling  4209
ORGANIZER;CN=admin:MAILTO:office@riatech.at
DTSTART;TZID=Europe/Vienna:20180707T073000
DTEND;TZID=Europe/Vienna:20180707T150000
X-ALT-DESC;FMTTYPE=TEXT/HTML:Heuer erstmalig mit Start am Vormittag. Alle I
 nfos dazu auf Facebook.
CATEGORIES:Fitness/Laufen
URL;VALUE=URI:https://www.askoe-treffling.at/mc-events/11-trefflinger-dorfl
 auf/
METHOD:PUBLISH
END:VEVENT
END:VCALENDAR