BEGIN:VCALENDAR
VERSION:2.0
PRODID:spatie/icalendar-generator
DESCRIPTION:Veranstaltungen von ASKÖ Treffling
X-WR-CALDESC:Veranstaltungen von ASKÖ Treffling
REFRESH-INTERVAL;VALUE=DURATION:PT1440M
X-PUBLISHED-TTL:PT1440M
BEGIN:VTIMEZONE
TZID:Europe/Vienna
BEGIN:DAYLIGHT
DTSTART:20210328T020000Z
TZOFFSETFROM:+0100
TZOFFSETTO:+0200
END:DAYLIGHT
BEGIN:STANDARD
DTSTART:20211031T030000Z
TZOFFSETFROM:+0200
TZOFFSETTO:+0100
END:STANDARD
BEGIN:DAYLIGHT
DTSTART:20220327T020000Z
TZOFFSETFROM:+0100
TZOFFSETTO:+0200
END:DAYLIGHT
END:VTIMEZONE
BEGIN:VTIMEZONE
TZID:UTC
BEGIN:STANDARD
DTSTART:20250726T103415Z
TZOFFSETFROM:+0000
TZOFFSETTO:+0000
END:STANDARD
END:VTIMEZONE
BEGIN:VEVENT
UID:90-64
DTSTAMP:20260422T103415Z
SUMMARY:Löwenturnier
LOCATION:
ORGANIZER;CN=Sonja Kolberger:MAILTO:sonja.josef.ko@aon.at
DTSTART;TZID=Europe/Vienna;VALUE=DATE:20211009
DTEND;TZID=Europe/Vienna;VALUE=DATE:20211010
X-ALT-DESC;FMTTYPE=TEXT/HTML:Am 9. oder 16. Oktober (je nach Wetter) ist da
 s Löwenturnier (besten Spieler der Rangliste) geplant. Nähere Details fo
 lgen!
CATEGORIES:Tennis
URL;VALUE=URI:https://www.askoe-treffling.at/mc-events/loewenturnier/
METHOD:PUBLISH
END:VEVENT
END:VCALENDAR