BEGIN:VCALENDAR
VERSION:2.0
PRODID:spatie/icalendar-generator
DESCRIPTION:Veranstaltungen von ASKÖ Treffling
X-WR-CALDESC:Veranstaltungen von ASKÖ Treffling
REFRESH-INTERVAL;VALUE=DURATION:PT1440M
X-PUBLISHED-TTL:PT1440M
BEGIN:VTIMEZONE
TZID:Europe/Vienna
BEGIN:DAYLIGHT
DTSTART:20180325T020000Z
TZOFFSETFROM:+0100
TZOFFSETTO:+0200
END:DAYLIGHT
BEGIN:STANDARD
DTSTART:20181028T030000Z
TZOFFSETFROM:+0200
TZOFFSETTO:+0100
END:STANDARD
END:VTIMEZONE
BEGIN:VTIMEZONE
TZID:UTC
BEGIN:STANDARD
DTSTART:20250724T224513Z
TZOFFSETFROM:+0000
TZOFFSETTO:+0000
END:STANDARD
END:VTIMEZONE
BEGIN:VEVENT
UID:37-15
DTSTAMP:20260420T224513Z
SUMMARY:1. Trefflinger Trachten Frühschoppen
LOCATION:Stockhalle Treffling Spielfeld 18  Engerwitzdorf Österreich 4209
ORGANIZER;CN=Herbert Meindl:MAILTO:h.meindl@meindl.co.at
DTSTART;TZID=Europe/Vienna:20180902T093000
DTEND;TZID=Europe/Vienna:20180902T180000
X-ALT-DESC;FMTTYPE=TEXT/HTML:Am Sonntag\, den 2. September ab 09:30 Uhr fin
 det der 1. Trefflinger Trachten Frühschoppen in der Stockschützenhalle 
 Treffling statt. Live Musik kommt von den Nöwitalern. Der Eintritt ist fr
 ei. Organisiert von MiHu's Sportstüberl.
CATEGORIES:General
URL;VALUE=URI:
METHOD:PUBLISH
END:VEVENT
END:VCALENDAR