BEGIN:VCALENDAR
VERSION:2.0
PRODID:spatie/icalendar-generator
DESCRIPTION:Veranstaltungen von ASKÖ Treffling
X-WR-CALDESC:Veranstaltungen von ASKÖ Treffling
REFRESH-INTERVAL;VALUE=DURATION:PT1440M
X-PUBLISHED-TTL:PT1440M
BEGIN:VTIMEZONE
TZID:Europe/Vienna
BEGIN:STANDARD
DTSTART:20171029T030000Z
TZOFFSETFROM:+0200
TZOFFSETTO:+0100
END:STANDARD
BEGIN:DAYLIGHT
DTSTART:20180325T020000Z
TZOFFSETFROM:+0100
TZOFFSETTO:+0200
END:DAYLIGHT
BEGIN:STANDARD
DTSTART:20181028T030000Z
TZOFFSETFROM:+0200
TZOFFSETTO:+0100
END:STANDARD
END:VTIMEZONE
BEGIN:VTIMEZONE
TZID:UTC
BEGIN:STANDARD
DTSTART:20250726T084846Z
TZOFFSETFROM:+0000
TZOFFSETTO:+0000
END:STANDARD
END:VTIMEZONE
BEGIN:VEVENT
UID:35-8
DTSTAMP:20260422T084846Z
SUMMARY:Kicker Dance 2018
LOCATION:EXIT 19 Stadion Spielfeld 18  Mittertreffling  4209
ORGANIZER;CN=admin:MAILTO:office@riatech.at
DTSTART;TZID=Europe/Vienna;VALUE=DATE:20180630
DTEND;TZID=Europe/Vienna;VALUE=DATE:20180701
X-ALT-DESC;FMTTYPE=TEXT/HTML:&amp;nbsp\; Kicker Dance 18 ASKÖ Treffling – Kl
 einfeldturnier Sa\, 30. Juni 2018 Auch 2018 findet wieder der Kicker Dance
  18 am Sportplatz Treffling statt. Ab 14:00 Uhr gibt es wieder das belieb
 te Kleinfeldturnier\, am Abend Bier- und Spirituosenbar und DJs. Fußba
 ll-WM 1/8-Finale live. Der Eintritt ist frei. Hier ist die offizielle Aus
 schreibung zum Turnier: [caption id=\"attachment_12809\" align=\"alignnone
 \" width=\"725\"] Kicker Dance&amp;hellip\;
CATEGORIES:Fußball
URL;VALUE=URI:
METHOD:PUBLISH
END:VEVENT
END:VCALENDAR