BEGIN:VCALENDAR
VERSION:2.0
PRODID:spatie/icalendar-generator
DESCRIPTION:Veranstaltungen von ASKÖ Treffling
X-WR-CALDESC:Veranstaltungen von ASKÖ Treffling
REFRESH-INTERVAL;VALUE=DURATION:PT1440M
X-PUBLISHED-TTL:PT1440M
BEGIN:VTIMEZONE
TZID:Europe/Vienna
BEGIN:STANDARD
DTSTART:20171029T030000Z
TZOFFSETFROM:+0200
TZOFFSETTO:+0100
END:STANDARD
BEGIN:DAYLIGHT
DTSTART:20180325T020000Z
TZOFFSETFROM:+0100
TZOFFSETTO:+0200
END:DAYLIGHT
BEGIN:STANDARD
DTSTART:20181028T030000Z
TZOFFSETFROM:+0200
TZOFFSETTO:+0100
END:STANDARD
END:VTIMEZONE
BEGIN:VTIMEZONE
TZID:UTC
BEGIN:STANDARD
DTSTART:20250724T191913Z
TZOFFSETFROM:+0000
TZOFFSETTO:+0000
END:STANDARD
END:VTIMEZONE
BEGIN:VEVENT
UID:32-11
DTSTAMP:20260420T191913Z
SUMMARY:Kinder-Tenniskurs
LOCATION:Tennisplätze Treffling Spielfeld 18  Engerwitzdorf Österreich 42
 09
ORGANIZER;CN=admin:MAILTO:office@riatech.at
DTSTART;TZID=Europe/Vienna;VALUE=DATE:20180709
DTEND;TZID=Europe/Vienna;VALUE=DATE:20180713
X-ALT-DESC;FMTTYPE=TEXT/HTML:Die Sektion Tennis veranstaltet auch in diesem
  Jahr wieder einen Tenniskurs für Kinder im Alter von 8 bis 14 Jahren. Di
 eser findet in der ersten Ferienwoche von 09. bis 12. Juli 2018 statt. Das
  Ziel des Tenniskurses ist die Vermittlung der Grundkenntnisse bzw. eine W
 eiterbildung im Tennissport. Der Tenniskurs erfolgt in Gruppenform\, max. 
 6 Kinder&amp;hellip\;
CATEGORIES:Tennis
URL;VALUE=URI:
METHOD:PUBLISH
END:VEVENT
END:VCALENDAR