BEGIN:VCALENDAR
VERSION:2.0
PRODID:spatie/icalendar-generator
DESCRIPTION:Veranstaltungen von ASKÖ Treffling
X-WR-CALDESC:Veranstaltungen von ASKÖ Treffling
REFRESH-INTERVAL;VALUE=DURATION:PT1440M
X-PUBLISHED-TTL:PT1440M
BEGIN:VTIMEZONE
TZID:Europe/Vienna
BEGIN:STANDARD
DTSTART:20171029T030000Z
TZOFFSETFROM:+0200
TZOFFSETTO:+0100
END:STANDARD
BEGIN:DAYLIGHT
DTSTART:20180325T020000Z
TZOFFSETFROM:+0100
TZOFFSETTO:+0200
END:DAYLIGHT
BEGIN:STANDARD
DTSTART:20181028T030000Z
TZOFFSETFROM:+0200
TZOFFSETTO:+0100
END:STANDARD
END:VTIMEZONE
BEGIN:VTIMEZONE
TZID:UTC
BEGIN:STANDARD
DTSTART:20250725T020928Z
TZOFFSETFROM:+0000
TZOFFSETTO:+0000
END:STANDARD
END:VTIMEZONE
BEGIN:VEVENT
UID:31-10
DTSTAMP:20260421T020928Z
SUMMARY:Mascherlturnier 
LOCATION:Tennisplätze Treffling Spielfeld 18  Engerwitzdorf Österreich 42
 09
ORGANIZER;CN=admin:MAILTO:office@riatech.at
DTSTART;TZID=Europe/Vienna;VALUE=DATE:20180519
DTEND;TZID=Europe/Vienna;VALUE=DATE:20180520
X-ALT-DESC;FMTTYPE=TEXT/HTML:Liebe Tennismitglieder! Am Samstag\, 19. Mai 2
 018 laden wir zum alljährlichen Mascherlturnier ein. Treffpunkt 8:30 Uhr
  Spielbeginn 9:00 Uhr Anschließend gibt es eine Siegerehrung sowie ein Mi
 ttagessen (Schnitzel) um 9\,50 Euro beim MIHU. Anmeldung für Turnier und 
 Essen bis spätestens Dienstag\, 16. Mai 2018 telefonisch: 0660 5549496 od
 er per E-Mail: sonja.josef.ko@aon.at bei Sonja Freuen uns über&amp;hellip\;
CATEGORIES:Tennis
URL;VALUE=URI:
METHOD:PUBLISH
END:VEVENT
END:VCALENDAR