BEGIN:VCALENDAR
VERSION:2.0
PRODID:spatie/icalendar-generator
DESCRIPTION:Veranstaltungen von ASKÖ Treffling
X-WR-CALDESC:Veranstaltungen von ASKÖ Treffling
REFRESH-INTERVAL;VALUE=DURATION:PT1440M
X-PUBLISHED-TTL:PT1440M
BEGIN:VTIMEZONE
TZID:Europe/Vienna
BEGIN:STANDARD
DTSTART:20171029T030000Z
TZOFFSETFROM:+0200
TZOFFSETTO:+0100
END:STANDARD
BEGIN:DAYLIGHT
DTSTART:20180325T020000Z
TZOFFSETFROM:+0100
TZOFFSETTO:+0200
END:DAYLIGHT
BEGIN:STANDARD
DTSTART:20181028T030000Z
TZOFFSETFROM:+0200
TZOFFSETTO:+0100
END:STANDARD
END:VTIMEZONE
BEGIN:VTIMEZONE
TZID:UTC
BEGIN:STANDARD
DTSTART:20250724T140046Z
TZOFFSETFROM:+0000
TZOFFSETTO:+0000
END:STANDARD
END:VTIMEZONE
BEGIN:VEVENT
UID:21-9
DTSTAMP:20260420T140046Z
SUMMARY:Trefflinger Stockturnier
LOCATION:Stockhalle Treffling Spielfeld 18  Engerwitzdorf Österreich 4209
ORGANIZER;CN=admin:MAILTO:office@riatech.at
DTSTART;TZID=Europe/Vienna;VALUE=DATE:20180621
DTEND;TZID=Europe/Vienna;VALUE=DATE:20180623
X-ALT-DESC;FMTTYPE=TEXT/HTML:Das Trefflinger Stockturnier findet am 21. und
  22. Juni 2018 statt: Do. 21. Juni 2018 17:00: Herren-Senioren - Laufplatt
 e maximal 50 Shore Fr. 22. Juni 2018 17:00: Herren - \"Lila Platte nicht e
 rlaubt\" Austragungsort: STOCKHALLE TREFFLING Durchführung: 7 Moarschafte
 n mit zwei Durchgängen Nennung: jeweils eine halbe Stunde vor Beginn Nenn
 geld: € 35\,- / Moarschaft Die&amp;hellip\;
CATEGORIES:Stockschießen
URL;VALUE=URI:
METHOD:PUBLISH
END:VEVENT
END:VCALENDAR