BEGIN:VCALENDAR
VERSION:2.0
PRODID:spatie/icalendar-generator
DESCRIPTION:Veranstaltungen von ASKÖ Treffling
X-WR-CALDESC:Veranstaltungen von ASKÖ Treffling
REFRESH-INTERVAL;VALUE=DURATION:PT1440M
X-PUBLISHED-TTL:PT1440M
BEGIN:VTIMEZONE
TZID:Europe/Vienna
BEGIN:STANDARD
DTSTART:20171029T030000Z
TZOFFSETFROM:+0200
TZOFFSETTO:+0100
END:STANDARD
BEGIN:DAYLIGHT
DTSTART:20180325T020000Z
TZOFFSETFROM:+0100
TZOFFSETTO:+0200
END:DAYLIGHT
END:VTIMEZONE
BEGIN:VTIMEZONE
TZID:UTC
BEGIN:STANDARD
DTSTART:20250726T084841Z
TZOFFSETFROM:+0000
TZOFFSETTO:+0000
END:STANDARD
END:VTIMEZONE
BEGIN:VEVENT
UID:2-1
DTSTAMP:20260422T084841Z
SUMMARY:12. Fussballer Skitag 2018
LOCATION:Snow Space Flachau Liftstraße  Reitdorf Salzburg 5542
ORGANIZER;CN=Herbert Meindl:MAILTO:h.meindl@meindl.co.at
DTSTART;TZID=Europe/Vienna:20180210T060000
DTEND;TZID=Europe/Vienna:20180210T234500
X-ALT-DESC;FMTTYPE=TEXT/HTML:
CATEGORIES:Fußball
URL;VALUE=URI:
METHOD:PUBLISH
END:VEVENT
END:VCALENDAR