BEGIN:VCALENDAR
VERSION:2.0
PRODID:spatie/icalendar-generator
DESCRIPTION:Veranstaltungen von ASKÖ Treffling
X-WR-CALDESC:Veranstaltungen von ASKÖ Treffling
REFRESH-INTERVAL;VALUE=DURATION:PT1440M
X-PUBLISHED-TTL:PT1440M
BEGIN:VTIMEZONE
TZID:Europe/Vienna
BEGIN:STANDARD
DTSTART:20171029T030000Z
TZOFFSETFROM:+0200
TZOFFSETTO:+0100
END:STANDARD
BEGIN:DAYLIGHT
DTSTART:20180325T020000Z
TZOFFSETFROM:+0100
TZOFFSETTO:+0200
END:DAYLIGHT
END:VTIMEZONE
BEGIN:VTIMEZONE
TZID:UTC
BEGIN:STANDARD
DTSTART:20250724T224514Z
TZOFFSETFROM:+0000
TZOFFSETTO:+0000
END:STANDARD
END:VTIMEZONE
BEGIN:VEVENT
UID:13-3
DTSTAMP:20260420T224514Z
SUMMARY:Eisstock – Gemeindemeisterschaft 2018
LOCATION:Reckeneder – Eisstockbahnen Mittertreffling 8 3 Engerwitzdorf OO
 E 4209
ORGANIZER;CN=Andrea und Peter Purner:MAILTO:ap.purner@live.at
DTSTART;TZID=Europe/Vienna:20180211T073000
DTEND;TZID=Europe/Vienna:20180211T130000
X-ALT-DESC;FMTTYPE=TEXT/HTML:&amp;nbsp\; Alle Infos dazu hier.
CATEGORIES:Stockschießen
URL;VALUE=URI:
METHOD:PUBLISH
END:VEVENT
END:VCALENDAR